BEGIN:VCALENDAR
CALSCALE:GREGORIAN
X-WR-TIMEZONE;VALUE=TEXT:GMT
PRODID:PEAK Corporation - piCal -
X-WR-CALNAME;VALUE=TEXT:Ä±±o¦Û¤v¯à°µ¨ì©M¤£¯à°µ¨ì¡A¨ä¹ê¥u¦b¤@©À¤§¶¡
VERSION:2.0
METHOD:PUBLISH
BEGIN:VTIMEZONE
TZID:GMT
BEGIN:STANDARD
DTSTART:19390101T000000
TZOFFSETFROM:+0000
TZOFFSETTO:+0000
TZNAME:GMT
END:STANDARD
END:VTIMEZONE
BEGIN:VEVENT
DTSTART;VALUE=DATE:20071226
DTEND;VALUE=DATE:20071227
LOCATION:
TRANSP:OPAQUE
SEQUENCE:0
UID:pical060-0c8b9224669115a66bf40d10cf56a7be
DTSTAMP:20071224T141353Z
CATEGORIES:
DESCRIPTION:
SUMMARY:Ä±±o¦Û¤v¯à°µ¨ì©M¤£¯à°µ¨ì¡A¨ä¹ê¥u¦b¤@©À¤§¶¡
RRULE:FREQ=YEARLY;INTERVAL=1;BYMONTH=12;WKST=SU
PRIORITY:0
CLASS:PUBLIC
END:VEVENT
END:VCALENDAR
