BEGIN:VCALENDAR
CALSCALE:GREGORIAN
X-WR-TIMEZONE;VALUE=TEXT:GMT
PRODID:PEAK Corporation - piCal -
X-WR-CALNAME;VALUE=TEXT:¤H¥Í´N¹³¨S¦³©³½Zªº»R¥x¡A¦b¹G¯uªººt¥X¤¤¡A¨ÌµM·|¦³¯Ê¾Ñ¡C
VERSION:2.0
METHOD:PUBLISH
BEGIN:VTIMEZONE
TZID:GMT
BEGIN:STANDARD
DTSTART:19390101T000000
TZOFFSETFROM:+0000
TZOFFSETTO:+0000
TZNAME:GMT
END:STANDARD
END:VTIMEZONE
BEGIN:VEVENT
DTSTART;VALUE=DATE:20071230
DTEND;VALUE=DATE:20071231
LOCATION:
TRANSP:OPAQUE
SEQUENCE:0
UID:pical060-d4d28d6d588fe24019bbd31b2eea3adb
DTSTAMP:20071224T141603Z
CATEGORIES:
DESCRIPTION:
SUMMARY:¤H¥Í´N¹³¨S¦³©³½Zªº»R¥x¡A¦b¹G¯uªººt¥X¤¤¡A¨ÌµM·|¦³¯Ê¾Ñ¡C
RRULE:FREQ=YEARLY;INTERVAL=1;BYMONTH=12;WKST=SU
PRIORITY:0
CLASS:PUBLIC
END:VEVENT
END:VCALENDAR
