BEGIN:VCALENDAR
CALSCALE:GREGORIAN
X-WR-TIMEZONE;VALUE=TEXT:GMT
PRODID:PEAK Corporation - piCal -
X-WR-CALNAME;VALUE=TEXT:°¨¨à²´¨£´N­n³Q¨ä¥L°¨¤Ç¶W¶V®É¡A¶]±o³Ì§Ö
VERSION:2.0
METHOD:PUBLISH
BEGIN:VTIMEZONE
TZID:GMT
BEGIN:STANDARD
DTSTART:19390101T000000
TZOFFSETFROM:+0000
TZOFFSETTO:+0000
TZNAME:GMT
END:STANDARD
END:VTIMEZONE
BEGIN:VEVENT
DTSTART;VALUE=DATE:20080107
DTEND;VALUE=DATE:20080108
LOCATION:
TRANSP:OPAQUE
SEQUENCE:0
UID:pical060-35ed650f18ef14d1ecce43f4fc20c8a5
DTSTAMP:20071224T155942Z
CATEGORIES:
DESCRIPTION:
SUMMARY:°¨¨à²´¨£´N­n³Q¨ä¥L°¨¤Ç¶W¶V®É¡A¶]±o³Ì§Ö
RRULE:FREQ=YEARLY;INTERVAL=1;BYMONTH=1;WKST=SU
PRIORITY:0
CLASS:PUBLIC
END:VEVENT
END:VCALENDAR
