BEGIN:VCALENDAR
CALSCALE:GREGORIAN
X-WR-TIMEZONE;VALUE=TEXT:GMT
PRODID:PEAK Corporation - piCal -
X-WR-CALNAME;VALUE=TEXT:¥u­n§AÁÙ¦b¾Ç²ß¡A´N¤£·|ÅÜ¦Ñ
VERSION:2.0
METHOD:PUBLISH
BEGIN:VTIMEZONE
TZID:GMT
BEGIN:STANDARD
DTSTART:19390101T000000
TZOFFSETFROM:+0000
TZOFFSETTO:+0000
TZNAME:GMT
END:STANDARD
END:VTIMEZONE
BEGIN:VEVENT
DTSTART;VALUE=DATE:20080111
DTEND;VALUE=DATE:20080112
LOCATION:
TRANSP:OPAQUE
SEQUENCE:0
UID:pical060-abd2a4b8a32c7d20d266b32b60648799
DTSTAMP:20071224T160140Z
CATEGORIES:
DESCRIPTION:
SUMMARY:¥u­n§AÁÙ¦b¾Ç²ß¡A´N¤£·|ÅÜ¦Ñ
RRULE:FREQ=YEARLY;INTERVAL=1;BYMONTH=1;WKST=SU
PRIORITY:0
CLASS:PUBLIC
END:VEVENT
END:VCALENDAR
