BEGIN:VCALENDAR
CALSCALE:GREGORIAN
X-WR-TIMEZONE;VALUE=TEXT:GMT
PRODID:PEAK Corporation - piCal -
X-WR-CALNAME;VALUE=TEXT:©Ò¦³ªº¾Ô§Ð¡A³Ó­t³£¦b©ó¤@¤ß¡C--¸t¤k­s¼w
VERSION:2.0
METHOD:PUBLISH
BEGIN:VTIMEZONE
TZID:GMT
BEGIN:STANDARD
DTSTART:19390101T000000
TZOFFSETFROM:+0000
TZOFFSETTO:+0000
TZNAME:GMT
END:STANDARD
END:VTIMEZONE
BEGIN:VEVENT
DTSTART;VALUE=DATE:20080122
DTEND;VALUE=DATE:20080123
LOCATION:
TRANSP:OPAQUE
SEQUENCE:0
UID:pical060-6de016198ee7b0aac20c92619311cdbe
DTSTAMP:20071224T160852Z
CATEGORIES:
DESCRIPTION:
SUMMARY:©Ò¦³ªº¾Ô§Ð¡A³Ó­t³£¦b©ó¤@¤ß¡C--¸t¤k­s¼w
RRULE:FREQ=YEARLY;INTERVAL=1;BYMONTH=1;WKST=SU
PRIORITY:0
CLASS:PUBLIC
END:VEVENT
END:VCALENDAR
