BEGIN:VCALENDAR
CALSCALE:GREGORIAN
X-WR-TIMEZONE;VALUE=TEXT:GMT
PRODID:PEAK Corporation - piCal -
X-WR-CALNAME;VALUE=TEXT:·í§Ú­Ì°µ¦n¿n·¥§ïÅÜªº·Ç³Æ®É¡A´N¦ÛµM¤Þ¨Ó©Ò»Ý­nªºÀ°§U
VERSION:2.0
METHOD:PUBLISH
BEGIN:VTIMEZONE
TZID:GMT
BEGIN:STANDARD
DTSTART:19390101T000000
TZOFFSETFROM:+0000
TZOFFSETTO:+0000
TZNAME:GMT
END:STANDARD
END:VTIMEZONE
BEGIN:VEVENT
DTSTART;VALUE=DATE:20080314
DTEND;VALUE=DATE:20080315
LOCATION:
TRANSP:OPAQUE
SEQUENCE:0
UID:pical060-4e01c4312e6699d021b53bd77b012e30
DTSTAMP:20071225T043503Z
CATEGORIES:
DESCRIPTION:
SUMMARY:·í§Ú­Ì°µ¦n¿n·¥§ïÅÜªº·Ç³Æ®É¡A´N¦ÛµM¤Þ¨Ó©Ò»Ý­nªºÀ°§U
RRULE:FREQ=YEARLY;INTERVAL=1;BYMONTH=3;WKST=SU
PRIORITY:0
CLASS:PUBLIC
END:VEVENT
END:VCALENDAR
