BEGIN:VCALENDAR
CALSCALE:GREGORIAN
X-WR-TIMEZONE;VALUE=TEXT:GMT
PRODID:PEAK Corporation - piCal -
X-WR-CALNAME;VALUE=TEXT:°µ­Ó¥Í¬¡ªºÅÜ¦âÀs¢w¦³¼u©Ê¡BÀ´±oÂàÅs¡B¦³¨Çªí²{¡B¦³¨Ç§t»W
VERSION:2.0
METHOD:PUBLISH
BEGIN:VTIMEZONE
TZID:GMT
BEGIN:STANDARD
DTSTART:19390101T000000
TZOFFSETFROM:+0000
TZOFFSETTO:+0000
TZNAME:GMT
END:STANDARD
END:VTIMEZONE
BEGIN:VEVENT
DTSTART;VALUE=DATE:20080315
DTEND;VALUE=DATE:20080316
LOCATION:
TRANSP:OPAQUE
SEQUENCE:0
UID:pical060-83434454b054df9a2bbe968b58061471
DTSTAMP:20071225T043554Z
CATEGORIES:
DESCRIPTION:
SUMMARY:°µ­Ó¥Í¬¡ªºÅÜ¦âÀs¢w¦³¼u©Ê¡BÀ´±oÂàÅs¡B¦³¨Çªí²{¡B¦³¨Ç§t»W
RRULE:FREQ=YEARLY;INTERVAL=1;BYMONTH=3;WKST=SU
PRIORITY:0
CLASS:PUBLIC
END:VEVENT
END:VCALENDAR
