BEGIN:VCALENDAR
CALSCALE:GREGORIAN
X-WR-TIMEZONE;VALUE=TEXT:GMT
PRODID:PEAK Corporation - piCal -
X-WR-CALNAME;VALUE=TEXT:¤£­nºzµø§O¤Hªº³n®z¡A¨º¤]¥i¯à¬O§Aªº¯ÊÂI
VERSION:2.0
METHOD:PUBLISH
BEGIN:VTIMEZONE
TZID:GMT
BEGIN:STANDARD
DTSTART:19390101T000000
TZOFFSETFROM:+0000
TZOFFSETTO:+0000
TZNAME:GMT
END:STANDARD
END:VTIMEZONE
BEGIN:VEVENT
DTSTART;VALUE=DATE:20080318
DTEND;VALUE=DATE:20080319
LOCATION:
TRANSP:OPAQUE
SEQUENCE:0
UID:pical060-f3028fb14fe5e89c9f0516f2b5e7e7a3
DTSTAMP:20071225T043850Z
CATEGORIES:
DESCRIPTION:
SUMMARY:¤£­nºzµø§O¤Hªº³n®z¡A¨º¤]¥i¯à¬O§Aªº¯ÊÂI
RRULE:FREQ=YEARLY;INTERVAL=1;BYMONTH=3;WKST=SU
PRIORITY:0
CLASS:PUBLIC
END:VEVENT
END:VCALENDAR
