BEGIN:VCALENDAR
CALSCALE:GREGORIAN
X-WR-TIMEZONE;VALUE=TEXT:GMT
PRODID:PEAK Corporation - piCal -
X-WR-CALNAME;VALUE=TEXT:¦pªG¨C¤@¥ó¨Æ³£¦³¤@­Ó¸}¥»¡A¦¨¥\´N¤£·|¨º»ò¥O¤H¿³¾Ä¤F
VERSION:2.0
METHOD:PUBLISH
BEGIN:VTIMEZONE
TZID:GMT
BEGIN:STANDARD
DTSTART:19390101T000000
TZOFFSETFROM:+0000
TZOFFSETTO:+0000
TZNAME:GMT
END:STANDARD
END:VTIMEZONE
BEGIN:VEVENT
DTSTART;VALUE=DATE:20080319
DTEND;VALUE=DATE:20080320
LOCATION:
TRANSP:OPAQUE
SEQUENCE:0
UID:pical060-860ac583b12109d6416f8782faa232a1
DTSTAMP:20071225T043928Z
CATEGORIES:
DESCRIPTION:
SUMMARY:¦pªG¨C¤@¥ó¨Æ³£¦³¤@­Ó¸}¥»¡A¦¨¥\´N¤£·|¨º»ò¥O¤H¿³¾Ä¤F
RRULE:FREQ=YEARLY;INTERVAL=1;BYMONTH=3;WKST=SU
PRIORITY:0
CLASS:PUBLIC
END:VEVENT
END:VCALENDAR
