BEGIN:VCALENDAR
CALSCALE:GREGORIAN
X-WR-TIMEZONE;VALUE=TEXT:GMT
PRODID:PEAK Corporation - piCal -
X-WR-CALNAME;VALUE=TEXT:¦Û·R¬O¹ï¦Û¤vªºÃöÃh»P´L­«¡A¤£·R¦Û¤vªº¤H¡A¤£¥i¯à·R§O¤H
VERSION:2.0
METHOD:PUBLISH
BEGIN:VTIMEZONE
TZID:GMT
BEGIN:STANDARD
DTSTART:19390101T000000
TZOFFSETFROM:+0000
TZOFFSETTO:+0000
TZNAME:GMT
END:STANDARD
END:VTIMEZONE
BEGIN:VEVENT
DTSTART;VALUE=DATE:20080323
DTEND;VALUE=DATE:20080324
LOCATION:
TRANSP:OPAQUE
SEQUENCE:0
UID:pical060-911fdbe14410b219f4d25026d8e68208
DTSTAMP:20071225T044328Z
CATEGORIES:
DESCRIPTION:
SUMMARY:¦Û·R¬O¹ï¦Û¤vªºÃöÃh»P´L­«¡A¤£·R¦Û¤vªº¤H¡A¤£¥i¯à·R§O¤H
RRULE:FREQ=YEARLY;INTERVAL=1;BYMONTH=3;WKST=SU
PRIORITY:0
CLASS:PUBLIC
END:VEVENT
END:VCALENDAR
