BEGIN:VCALENDAR
CALSCALE:GREGORIAN
X-WR-TIMEZONE;VALUE=TEXT:GMT
PRODID:PEAK Corporation - piCal -
X-WR-CALNAME;VALUE=TEXT:¾÷·|¤£¬O¦Û¤v¥X²{¡A´N¬O¦Û¤v¥h³Ð³y
VERSION:2.0
METHOD:PUBLISH
BEGIN:VTIMEZONE
TZID:GMT
BEGIN:STANDARD
DTSTART:19390101T000000
TZOFFSETFROM:+0000
TZOFFSETTO:+0000
TZNAME:GMT
END:STANDARD
END:VTIMEZONE
BEGIN:VEVENT
DTSTART;VALUE=DATE:20080324
DTEND;VALUE=DATE:20080325
LOCATION:
TRANSP:OPAQUE
SEQUENCE:0
UID:pical060-4a85687222dea4de15a5dbec78d217d5
DTSTAMP:20071225T044418Z
CATEGORIES:
DESCRIPTION:
SUMMARY:¾÷·|¤£¬O¦Û¤v¥X²{¡A´N¬O¦Û¤v¥h³Ð³y
RRULE:FREQ=YEARLY;INTERVAL=1;BYMONTH=3;WKST=SU
PRIORITY:0
CLASS:PUBLIC
END:VEVENT
END:VCALENDAR
