BEGIN:VCALENDAR
CALSCALE:GREGORIAN
X-WR-TIMEZONE;VALUE=TEXT:GMT
PRODID:PEAK Corporation - piCal -
X-WR-CALNAME;VALUE=TEXT:§Y¨Ï¨S¦³¤H¬°§A³Üªö¡A¦Û¤v¬°¦Û¤v¥[ªo¡A¤£¤]®¼¦n¶Ü¡H
VERSION:2.0
METHOD:PUBLISH
BEGIN:VTIMEZONE
TZID:GMT
BEGIN:STANDARD
DTSTART:19390101T000000
TZOFFSETFROM:+0000
TZOFFSETTO:+0000
TZNAME:GMT
END:STANDARD
END:VTIMEZONE
BEGIN:VEVENT
DTSTART;VALUE=DATE:20080325
DTEND;VALUE=DATE:20080326
LOCATION:
TRANSP:OPAQUE
SEQUENCE:0
UID:pical060-257345e2f2b5b157041e71f605fe2f9c
DTSTAMP:20071225T044517Z
CATEGORIES:
DESCRIPTION:
SUMMARY:§Y¨Ï¨S¦³¤H¬°§A³Üªö¡A¦Û¤v¬°¦Û¤v¥[ªo¡A¤£¤]®¼¦n¶Ü¡H
RRULE:FREQ=YEARLY;INTERVAL=1;BYMONTH=3;WKST=SU
PRIORITY:0
CLASS:PUBLIC
END:VEVENT
END:VCALENDAR
