BEGIN:VCALENDAR
CALSCALE:GREGORIAN
X-WR-TIMEZONE;VALUE=TEXT:GMT
PRODID:PEAK Corporation - piCal -
X-WR-CALNAME;VALUE=TEXT:Åý¤ß¹Ò¦³¦p¤@¤ù¤s²M¤ô¨q¡A­n²M¤ß¡A¤ß´¸
VERSION:2.0
METHOD:PUBLISH
BEGIN:VTIMEZONE
TZID:GMT
BEGIN:STANDARD
DTSTART:19390101T000000
TZOFFSETFROM:+0000
TZOFFSETTO:+0000
TZNAME:GMT
END:STANDARD
END:VTIMEZONE
BEGIN:VEVENT
DTSTART;VALUE=DATE:20080326
DTEND;VALUE=DATE:20080327
LOCATION:
TRANSP:OPAQUE
SEQUENCE:0
UID:pical060-499194a1cff9d54dedd02b8cd3e48c05
DTSTAMP:20071225T044624Z
CATEGORIES:
DESCRIPTION:
SUMMARY:Åý¤ß¹Ò¦³¦p¤@¤ù¤s²M¤ô¨q¡A­n²M¤ß¡A¤ß´¸
RRULE:FREQ=YEARLY;INTERVAL=1;BYMONTH=3;WKST=SU
PRIORITY:0
CLASS:PUBLIC
END:VEVENT
END:VCALENDAR
