BEGIN:VCALENDAR
CALSCALE:GREGORIAN
X-WR-TIMEZONE;VALUE=TEXT:GMT
PRODID:PEAK Corporation - piCal -
X-WR-CALNAME;VALUE=TEXT:¤H¥Í¥|¤j»Ý¨D¡G·R¡B¥Í¬¡¡B¾Ç²ß©Mµo´§¼vÅT¤O
VERSION:2.0
METHOD:PUBLISH
BEGIN:VTIMEZONE
TZID:GMT
BEGIN:STANDARD
DTSTART:19390101T000000
TZOFFSETFROM:+0000
TZOFFSETTO:+0000
TZNAME:GMT
END:STANDARD
END:VTIMEZONE
BEGIN:VEVENT
DTSTART;VALUE=DATE:20080327
DTEND;VALUE=DATE:20080328
LOCATION:
TRANSP:OPAQUE
SEQUENCE:0
UID:pical060-5de716b1588a451d4d88a0793a6ef946
DTSTAMP:20071225T044653Z
CATEGORIES:
DESCRIPTION:
SUMMARY:¤H¥Í¥|¤j»Ý¨D¡G·R¡B¥Í¬¡¡B¾Ç²ß©Mµo´§¼vÅT¤O
RRULE:FREQ=YEARLY;INTERVAL=1;BYMONTH=3;WKST=SU
PRIORITY:0
CLASS:PUBLIC
END:VEVENT
END:VCALENDAR
