BEGIN:VCALENDAR
CALSCALE:GREGORIAN
X-WR-TIMEZONE;VALUE=TEXT:GMT
PRODID:PEAK Corporation - piCal -
X-WR-CALNAME;VALUE=TEXT:¦³¨Ç¨Æ¡AÀH®ÉÀH¦a³£¥i¥H°µ¡A¦³¨Ç¨Æ¡A¨ì¤F®É­Ô¤~¥i¥H°µ
VERSION:2.0
METHOD:PUBLISH
BEGIN:VTIMEZONE
TZID:GMT
BEGIN:STANDARD
DTSTART:19390101T000000
TZOFFSETFROM:+0000
TZOFFSETTO:+0000
TZNAME:GMT
END:STANDARD
END:VTIMEZONE
BEGIN:VEVENT
DTSTART;VALUE=DATE:20080408
DTEND;VALUE=DATE:20080409
LOCATION:
TRANSP:OPAQUE
SEQUENCE:0
UID:pical060-9b3de8f6b9664730440f9f3d6b316b1d
DTSTAMP:20071225T050842Z
CATEGORIES:
DESCRIPTION:
SUMMARY:¦³¨Ç¨Æ¡AÀH®ÉÀH¦a³£¥i¥H°µ¡A¦³¨Ç¨Æ¡A¨ì¤F®É­Ô¤~¥i¥H°µ
RRULE:FREQ=YEARLY;INTERVAL=1;BYMONTH=4;WKST=SU
PRIORITY:0
CLASS:PUBLIC
END:VEVENT
END:VCALENDAR
