BEGIN:VCALENDAR
CALSCALE:GREGORIAN
X-WR-TIMEZONE;VALUE=TEXT:GMT
PRODID:PEAK Corporation - piCal -
X-WR-CALNAME;VALUE=TEXT:´¤¦³¥Í±þ¤jÅvªº¤H¡A±`Ä±±o¦Û¤vªº©Ò§@©Ò¬°³£¥¿½T
VERSION:2.0
METHOD:PUBLISH
BEGIN:VTIMEZONE
TZID:GMT
BEGIN:STANDARD
DTSTART:19390101T000000
TZOFFSETFROM:+0000
TZOFFSETTO:+0000
TZNAME:GMT
END:STANDARD
END:VTIMEZONE
BEGIN:VEVENT
DTSTART;VALUE=DATE:20080421
DTEND;VALUE=DATE:20080422
LOCATION:
TRANSP:OPAQUE
SEQUENCE:0
UID:pical060-5b5e49e446faae426459b415dc8e7361
DTSTAMP:20071225T051942Z
CATEGORIES:
DESCRIPTION:
SUMMARY:´¤¦³¥Í±þ¤jÅvªº¤H¡A±`Ä±±o¦Û¤vªº©Ò§@©Ò¬°³£¥¿½T
RRULE:FREQ=YEARLY;INTERVAL=1;BYMONTH=4;WKST=SU
PRIORITY:0
CLASS:PUBLIC
END:VEVENT
END:VCALENDAR
