BEGIN:VCALENDAR
CALSCALE:GREGORIAN
X-WR-TIMEZONE;VALUE=TEXT:GMT
PRODID:PEAK Corporation - piCal -
X-WR-CALNAME;VALUE=TEXT:°µ³Ì¦nªº¨Æ´N¬O¦Û¥Ñ¡A¤£¸`¨îªº¤H¨S¦³¦Û¥Ñ
VERSION:2.0
METHOD:PUBLISH
BEGIN:VTIMEZONE
TZID:GMT
BEGIN:STANDARD
DTSTART:19390101T000000
TZOFFSETFROM:+0000
TZOFFSETTO:+0000
TZNAME:GMT
END:STANDARD
END:VTIMEZONE
BEGIN:VEVENT
DTSTART;VALUE=DATE:20080427
DTEND;VALUE=DATE:20080428
LOCATION:
TRANSP:OPAQUE
SEQUENCE:0
UID:pical060-ace5581f4ae77c2773672b3fd0625ce3
DTSTAMP:20071225T052422Z
CATEGORIES:
DESCRIPTION:
SUMMARY:°µ³Ì¦nªº¨Æ´N¬O¦Û¥Ñ¡A¤£¸`¨îªº¤H¨S¦³¦Û¥Ñ
RRULE:FREQ=YEARLY;INTERVAL=1;BYMONTH=4;WKST=SU
PRIORITY:0
CLASS:PUBLIC
END:VEVENT
END:VCALENDAR
