BEGIN:VCALENDAR
CALSCALE:GREGORIAN
X-WR-TIMEZONE;VALUE=TEXT:GMT
PRODID:PEAK Corporation - piCal -
X-WR-CALNAME;VALUE=TEXT:°ß¦³·P°Ê¦Û¤v,¤~¯à·P°Ê§O¤H.-®ü®a¸Û
VERSION:2.0
METHOD:PUBLISH
BEGIN:VTIMEZONE
TZID:GMT
BEGIN:STANDARD
DTSTART:19390101T000000
TZOFFSETFROM:+0000
TZOFFSETTO:+0000
TZNAME:GMT
END:STANDARD
END:VTIMEZONE
BEGIN:VEVENT
DTSTART;VALUE=DATE:20080428
DTEND;VALUE=DATE:20080429
LOCATION:
TRANSP:OPAQUE
SEQUENCE:0
UID:pical060-4863bb334c1579ef1761a01f2ea8ea98
DTSTAMP:20071225T052511Z
CATEGORIES:
DESCRIPTION:
SUMMARY:°ß¦³·P°Ê¦Û¤v,¤~¯à·P°Ê§O¤H.-®ü®a¸Û
RRULE:FREQ=YEARLY;INTERVAL=1;BYMONTH=4;WKST=SU
PRIORITY:0
CLASS:PUBLIC
END:VEVENT
END:VCALENDAR
