BEGIN:VCALENDAR
CALSCALE:GREGORIAN
X-WR-TIMEZONE;VALUE=TEXT:GMT
PRODID:PEAK Corporation - piCal -
X-WR-CALNAME;VALUE=TEXT:¤H­Ì©Ò¥HÄ±±o±I¹æ¡A¬O¦]¬°¥L­Ì·|¿vÀð¡A«o¤£·|·f¾ô
VERSION:2.0
METHOD:PUBLISH
BEGIN:VTIMEZONE
TZID:GMT
BEGIN:STANDARD
DTSTART:19390101T000000
TZOFFSETFROM:+0000
TZOFFSETTO:+0000
TZNAME:GMT
END:STANDARD
END:VTIMEZONE
BEGIN:VEVENT
DTSTART;VALUE=DATE:20080507
DTEND;VALUE=DATE:20080508
LOCATION:
TRANSP:OPAQUE
SEQUENCE:0
UID:pical060-75c2e348421b80060f42e34475a6d635
DTSTAMP:20071226T135218Z
CATEGORIES:
DESCRIPTION:
SUMMARY:¤H­Ì©Ò¥HÄ±±o±I¹æ¡A¬O¦]¬°¥L­Ì·|¿vÀð¡A«o¤£·|·f¾ô
RRULE:FREQ=YEARLY;INTERVAL=1;BYMONTH=5;WKST=SU
PRIORITY:0
CLASS:PUBLIC
END:VEVENT
END:VCALENDAR
