BEGIN:VCALENDAR
CALSCALE:GREGORIAN
X-WR-TIMEZONE;VALUE=TEXT:GMT
PRODID:PEAK Corporation - piCal -
X-WR-CALNAME;VALUE=TEXT:¾÷¹BµyÁa§Y³u¡A¦ý»¤´bµL®É¤£¦b
VERSION:2.0
METHOD:PUBLISH
BEGIN:VTIMEZONE
TZID:GMT
BEGIN:STANDARD
DTSTART:19390101T000000
TZOFFSETFROM:+0000
TZOFFSETTO:+0000
TZNAME:GMT
END:STANDARD
END:VTIMEZONE
BEGIN:VEVENT
DTSTART;VALUE=DATE:20080508
DTEND;VALUE=DATE:20080509
LOCATION:
TRANSP:OPAQUE
SEQUENCE:0
UID:pical060-89454cf2003aeec74ceb9617bab9643b
DTSTAMP:20071226T135245Z
CATEGORIES:
DESCRIPTION:
SUMMARY:¾÷¹BµyÁa§Y³u¡A¦ý»¤´bµL®É¤£¦b
RRULE:FREQ=YEARLY;INTERVAL=1;BYMONTH=5;WKST=SU
PRIORITY:0
CLASS:PUBLIC
END:VEVENT
END:VCALENDAR
