BEGIN:VCALENDAR
CALSCALE:GREGORIAN
X-WR-TIMEZONE;VALUE=TEXT:GMT
PRODID:PEAK Corporation - piCal -
X-WR-CALNAME;VALUE=TEXT:¬¡¦b·í¤U¡A¬O´L­«¦¹¨è¡A¤£³Q¹L¥hªº³±¼v©ÒÃ©½ª
VERSION:2.0
METHOD:PUBLISH
BEGIN:VTIMEZONE
TZID:GMT
BEGIN:STANDARD
DTSTART:19390101T000000
TZOFFSETFROM:+0000
TZOFFSETTO:+0000
TZNAME:GMT
END:STANDARD
END:VTIMEZONE
BEGIN:VEVENT
DTSTART;VALUE=DATE:20080517
DTEND;VALUE=DATE:20080518
LOCATION:
TRANSP:OPAQUE
SEQUENCE:0
UID:pical060-4c1e7ac7e0c474eec578ec91bdc5c276
DTSTAMP:20071226T151001Z
CATEGORIES:
DESCRIPTION:
SUMMARY:¬¡¦b·í¤U¡A¬O´L­«¦¹¨è¡A¤£³Q¹L¥hªº³±¼v©ÒÃ©½ª
RRULE:FREQ=YEARLY;INTERVAL=1;BYMONTH=5;WKST=SU
PRIORITY:0
CLASS:PUBLIC
END:VEVENT
END:VCALENDAR
