BEGIN:VCALENDAR
CALSCALE:GREGORIAN
X-WR-TIMEZONE;VALUE=TEXT:GMT
PRODID:PEAK Corporation - piCal -
X-WR-CALNAME;VALUE=TEXT:¦£»Pª¼¤§¶¡¡A§A¿ù¹L¤F¦h¤Ö¡H¦ó§«©ñºC¸}¨B¡AÂ^¬B¥Í¬¡¼Ö½ì
VERSION:2.0
METHOD:PUBLISH
BEGIN:VTIMEZONE
TZID:GMT
BEGIN:STANDARD
DTSTART:19390101T000000
TZOFFSETFROM:+0000
TZOFFSETTO:+0000
TZNAME:GMT
END:STANDARD
END:VTIMEZONE
BEGIN:VEVENT
DTSTART;VALUE=DATE:20080518
DTEND;VALUE=DATE:20080519
LOCATION:
TRANSP:OPAQUE
SEQUENCE:0
UID:pical060-00604c9db62ac3a5d84b062877885e20
DTSTAMP:20071226T151056Z
CATEGORIES:
DESCRIPTION:
SUMMARY:¦£»Pª¼¤§¶¡¡A§A¿ù¹L¤F¦h¤Ö¡H¦ó§«©ñºC¸}¨B¡AÂ^¬B¥Í¬¡¼Ö½ì
RRULE:FREQ=YEARLY;INTERVAL=1;BYMONTH=5;WKST=SU
PRIORITY:0
CLASS:PUBLIC
END:VEVENT
END:VCALENDAR
