BEGIN:VCALENDAR
CALSCALE:GREGORIAN
X-WR-TIMEZONE;VALUE=TEXT:GMT
PRODID:PEAK Corporation - piCal -
X-WR-CALNAME;VALUE=TEXT:ºq¼w¡G¡u§Ö¼Ö¡A¬O¨É¨ü¤u§@¹Lµ{ªºµ²ªG¡C¡v
VERSION:2.0
METHOD:PUBLISH
BEGIN:VTIMEZONE
TZID:GMT
BEGIN:STANDARD
DTSTART:19390101T000000
TZOFFSETFROM:+0000
TZOFFSETTO:+0000
TZNAME:GMT
END:STANDARD
END:VTIMEZONE
BEGIN:VEVENT
DTSTART;VALUE=DATE:20080607
DTEND;VALUE=DATE:20080608
LOCATION:
TRANSP:OPAQUE
SEQUENCE:0
UID:pical060-a877eaca03dac1ad76b48d0b15f655f0
DTSTAMP:20071229T161038Z
CATEGORIES:
DESCRIPTION:
SUMMARY:ºq¼w¡G¡u§Ö¼Ö¡A¬O¨É¨ü¤u§@¹Lµ{ªºµ²ªG¡C¡v
RRULE:FREQ=YEARLY;INTERVAL=1;BYMONTH=6;WKST=SU
PRIORITY:0
CLASS:PUBLIC
END:VEVENT
END:VCALENDAR
