BEGIN:VCALENDAR
CALSCALE:GREGORIAN
X-WR-TIMEZONE;VALUE=TEXT:GMT
PRODID:PEAK Corporation - piCal -
X-WR-CALNAME;VALUE=TEXT:¥­±eªº±Ð®v----Á¿­z¡C¤@¯ëªº±Ð®v---¸ÑÄÀ¡CÀu¨qªº±Ð®v---¥Ü½d¡C°¶¤jªº±Ð®v---±Òµo¾Ç¥Íªº´¼¯à¡C
VERSION:2.0
METHOD:PUBLISH
BEGIN:VTIMEZONE
TZID:GMT
BEGIN:STANDARD
DTSTART:19390101T000000
TZOFFSETFROM:+0000
TZOFFSETTO:+0000
TZNAME:GMT
END:STANDARD
END:VTIMEZONE
BEGIN:VEVENT
DTSTART;VALUE=DATE:20080612
DTEND;VALUE=DATE:20080613
LOCATION:
TRANSP:OPAQUE
SEQUENCE:0
UID:pical060-5e9d973bd8221e825519ea1ed12bd6e4
DTSTAMP:20071229T161507Z
CATEGORIES:
DESCRIPTION:
SUMMARY:¥­±eªº±Ð®v----Á¿­z¡C¤@¯ëªº±Ð®v---¸ÑÄÀ¡CÀu¨qªº±Ð®v---¥Ü½d¡C°¶¤jªº±Ð®v---±Òµo¾Ç¥Íªº´¼¯à¡C
RRULE:FREQ=YEARLY;INTERVAL=1;BYMONTH=6;WKST=SU
PRIORITY:0
CLASS:PUBLIC
END:VEVENT
END:VCALENDAR
