BEGIN:VCALENDAR
CALSCALE:GREGORIAN
X-WR-TIMEZONE;VALUE=TEXT:GMT
PRODID:PEAK Corporation - piCal -
X-WR-CALNAME;VALUE=TEXT:&#8226;	ªü©i´µ§§¥ý¥Í´¿¹ï¾Ç¥Í°µ¹L¤@­Ó¦³½ìªº½Õ¬d¡C¥L³q±`¥ý°Ý¡G¡u§A­Ì·í¤¤¦³¦h¤Ö»{¬°¦Û¤v¬OÁo©úªº¡H¡v¦ÓµoÄ±Á|¤âªº¤H¼Æ©M©Ò±Ðªº¦~¯Åµ{«×¦¨¤Ï¤ñ¡A¦~¯Å¶V§C¡AÁ|¤âªº¤H¶V¦h¡C¦~¯Å¶V°ª¡AÁ|¤âªº¤H¶V¤Ö¡C³o¨Ï¥L·Q°_¯Ã¬ù¤j¾Ç±Ð±Âªi´µ°Òªº¤@¥y¸Ü¡G¡u¨àµ£­è¨ì¾Ç®Õ®É¹³­Ó°Ý¸¹¡AÂ÷¶}®É¹³¥y¸¹¡C¡v³o´Á¶¡¡A±Ð®v¨s³º¹ï¥L­Ì°µ¤F¤°»ò¡H
VERSION:2.0
METHOD:PUBLISH
BEGIN:VTIMEZONE
TZID:GMT
BEGIN:STANDARD
DTSTART:19390101T000000
TZOFFSETFROM:+0000
TZOFFSETTO:+0000
TZNAME:GMT
END:STANDARD
END:VTIMEZONE
BEGIN:VEVENT
DTSTART;VALUE=DATE:20080614
DTEND;VALUE=DATE:20080615
LOCATION:
TRANSP:OPAQUE
SEQUENCE:0
UID:pical060-a92041a0a49eaf7b75665b6063d6abfd
DTSTAMP:20071229T161718Z
CATEGORIES:
DESCRIPTION:
SUMMARY:&#8226;	ªü©i´µ§§¥ý¥Í´¿¹ï¾Ç¥Í°µ¹L¤@­Ó¦³½ìªº½Õ¬d¡C¥L³q±`¥ý°Ý¡G¡u§A­Ì·í¤¤¦³¦h¤Ö»{¬°¦Û¤v¬OÁo©úªº¡H¡v¦ÓµoÄ±Á|¤âªº¤H¼Æ©M©Ò±Ðªº¦~¯Åµ{«×¦¨¤Ï¤ñ¡A¦~¯Å¶V§C¡AÁ|¤âªº¤H¶V¦h¡C¦~¯Å¶V°ª¡AÁ|¤âªº¤H¶V¤Ö¡C³o¨Ï¥L·Q°_¯Ã¬ù¤j¾Ç±Ð±Âªi´µ°Òªº¤@¥y¸Ü¡G¡u¨àµ£­è¨ì¾Ç®Õ®É¹³­Ó°Ý¸¹¡AÂ÷¶}®É¹³¥y¸¹¡C¡v³o´Á¶¡¡A±Ð®v¨s³º¹ï¥L­Ì°µ¤F¤°»ò¡H
RRULE:FREQ=YEARLY;INTERVAL=1;BYMONTH=6;WKST=SU
PRIORITY:0
CLASS:PUBLIC
END:VEVENT
END:VCALENDAR
