BEGIN:VCALENDAR
CALSCALE:GREGORIAN
X-WR-TIMEZONE;VALUE=TEXT:GMT
PRODID:PEAK Corporation - piCal -
X-WR-CALNAME;VALUE=TEXT:&#8226;	¥u­n¤@¯¸¤WÁ¿¥x¡A§Ú´N¤£¯à¶d­t«Ä¤l­Ì¨º¤@ÂùÂù¼gº¡«H¥ôªºÂù²¶¡C§Ú¤@©w­n¶É¤ß«Ý¤§¡A¥þ¤O¥H­u¡C¦Ó¤U¤FÁ¿¥x¤§«á¡A§Ú¤S¥²¶·¸Ñ¨M«Ä¤lªººÃÃøÂø¯g¡B¦U¶µ°ÝÃD¡A²Ö«h²Ö¨o¡A«o¬O«D±`­È±o¡C¹ï§Ú¦Ó¨¥¡A±Ð¨|¤u§@¯uªº¦p¤@Â»¥H¸gÅç«ÊÂ»¡B·³¤ëµo»Ãªº¨ÎÆC¡C¯à°÷±Ð§Ú¤ß¥Ì±¡Ä@¦a¨H¾K¨ä¶¡¡A¤£¥ç¼Ö¥G¡I
VERSION:2.0
METHOD:PUBLISH
BEGIN:VTIMEZONE
TZID:GMT
BEGIN:STANDARD
DTSTART:19390101T000000
TZOFFSETFROM:+0000
TZOFFSETTO:+0000
TZNAME:GMT
END:STANDARD
END:VTIMEZONE
BEGIN:VEVENT
DTSTART;VALUE=DATE:20080619
DTEND;VALUE=DATE:20080620
LOCATION:
TRANSP:OPAQUE
SEQUENCE:0
UID:pical060-81613e9e20ddada735ea1abd0efc3b16
DTSTAMP:20071231T090045Z
CATEGORIES:
DESCRIPTION:
SUMMARY:&#8226;	¥u­n¤@¯¸¤WÁ¿¥x¡A§Ú´N¤£¯à¶d­t«Ä¤l­Ì¨º¤@ÂùÂù¼gº¡«H¥ôªºÂù²¶¡C§Ú¤@©w­n¶É¤ß«Ý¤§¡A¥þ¤O¥H­u¡C¦Ó¤U¤FÁ¿¥x¤§«á¡A§Ú¤S¥²¶·¸Ñ¨M«Ä¤lªººÃÃøÂø¯g¡B¦U¶µ°ÝÃD¡A²Ö«h²Ö¨o¡A«o¬O«D±`­È±o¡C¹ï§Ú¦Ó¨¥¡A±Ð¨|¤u§@¯uªº¦p¤@Â»¥H¸gÅç«ÊÂ»¡B·³¤ëµo»Ãªº¨ÎÆC¡C¯à°÷±Ð§Ú¤ß¥Ì±¡Ä@¦a¨H¾K¨ä¶¡¡A¤£¥ç¼Ö¥G¡I
RRULE:FREQ=YEARLY;INTERVAL=1;BYMONTH=6;WKST=SU
PRIORITY:0
CLASS:PUBLIC
END:VEVENT
END:VCALENDAR
