BEGIN:VCALENDAR
CALSCALE:GREGORIAN
X-WR-TIMEZONE;VALUE=TEXT:GMT
PRODID:PEAK Corporation - piCal -
X-WR-CALNAME;VALUE=TEXT:&#8226;	¨©¦hªâ¡G¡u¨S¦³ÆF»îµ²¦Xªº¦×Åé¨É¨ü¬OÃ~©Êªº¡A¦Ó¥B±N·|¤@ª½¬OÃ~©Êªº¡C¨Æ¹L¤§«á¡A¤@­Ó¤HÅéÅç¨ìªº¤£¬O°ª¶Qªº±¡·P¡A¦Ó¬O«á®¬»P¿ò¾Ñ¡C¡v
VERSION:2.0
METHOD:PUBLISH
BEGIN:VTIMEZONE
TZID:GMT
BEGIN:STANDARD
DTSTART:19390101T000000
TZOFFSETFROM:+0000
TZOFFSETTO:+0000
TZNAME:GMT
END:STANDARD
END:VTIMEZONE
BEGIN:VEVENT
DTSTART;VALUE=DATE:20080626
DTEND;VALUE=DATE:20080627
LOCATION:
TRANSP:OPAQUE
SEQUENCE:0
UID:pical060-bd3674246938cb9c99afc0a00ca489f1
DTSTAMP:20071231T090829Z
CATEGORIES:
DESCRIPTION:
SUMMARY:&#8226;	¨©¦hªâ¡G¡u¨S¦³ÆF»îµ²¦Xªº¦×Åé¨É¨ü¬OÃ~©Êªº¡A¦Ó¥B±N·|¤@ª½¬OÃ~©Êªº¡C¨Æ¹L¤§«á¡A¤@­Ó¤HÅéÅç¨ìªº¤£¬O°ª¶Qªº±¡·P¡A¦Ó¬O«á®¬»P¿ò¾Ñ¡C¡v
RRULE:FREQ=YEARLY;INTERVAL=1;BYMONTH=6;WKST=SU
PRIORITY:0
CLASS:PUBLIC
END:VEVENT
END:VCALENDAR
