BEGIN:VCALENDAR
CALSCALE:GREGORIAN
X-WR-TIMEZONE;VALUE=TEXT:GMT
PRODID:PEAK Corporation - piCal -
X-WR-CALNAME;VALUE=TEXT:&#8226;	¨ä¹ê¡A§Ú¤@ª½³£¦bÀRÀRµ¥«Ý¡Aµ¥«Ýªá¸¨¡A­·¤î¡B¿A·²¡B¬P·À¡Aµ¥«Ý©Ò¦³°øµØªº·PÄ±²×©ó³£¶i¤J°O¾Ð¡C§Ú¤~¯à¦V§A»¡©ú¡A§Ú¬O¦]¬°³o²×¥²®ø³uªº¤@¤Á¦Ó·R§A---®u¼}»T
VERSION:2.0
METHOD:PUBLISH
BEGIN:VTIMEZONE
TZID:GMT
BEGIN:STANDARD
DTSTART:19390101T000000
TZOFFSETFROM:+0000
TZOFFSETTO:+0000
TZNAME:GMT
END:STANDARD
END:VTIMEZONE
BEGIN:VEVENT
DTSTART;VALUE=DATE:20080627
DTEND;VALUE=DATE:20080628
LOCATION:
TRANSP:OPAQUE
SEQUENCE:0
UID:pical060-dc40db8b7e5f5b4ab5f5caace34d3a85
DTSTAMP:20071231T090920Z
CATEGORIES:
DESCRIPTION:
SUMMARY:&#8226;	¨ä¹ê¡A§Ú¤@ª½³£¦bÀRÀRµ¥«Ý¡Aµ¥«Ýªá¸¨¡A­·¤î¡B¿A·²¡B¬P·À¡Aµ¥«Ý©Ò¦³°øµØªº·PÄ±²×©ó³£¶i¤J°O¾Ð¡C§Ú¤~¯à¦V§A»¡©ú¡A§Ú¬O¦]¬°³o²×¥²®ø³uªº¤@¤Á¦Ó·R§A---®u¼}»T
RRULE:FREQ=YEARLY;INTERVAL=1;BYMONTH=6;WKST=SU
PRIORITY:0
CLASS:PUBLIC
END:VEVENT
END:VCALENDAR
