BEGIN:VCALENDAR
CALSCALE:GREGORIAN
X-WR-TIMEZONE;VALUE=TEXT:GMT
PRODID:PEAK Corporation - piCal -
X-WR-CALNAME;VALUE=TEXT:¤ò¤òÂÎÂ´¦¨¤F¸º¡A¦Ó¨e³Ì«á¤´¥²¶·¾a¦Û¤vªº¤O¶q«r¯}¸º¤~¯àÅÜ¦¨¬üÄRªº»ñ½º¡C¤H¤]­nÀHµÛ¾\¾ú»P¸gÅç¡A¾a¦Û¤vªº¼Ý¤O»P¨M¤ß¤~¯à¯}§½¦Ó¥Í
VERSION:2.0
METHOD:PUBLISH
BEGIN:VTIMEZONE
TZID:GMT
BEGIN:STANDARD
DTSTART:19390101T000000
TZOFFSETFROM:+0000
TZOFFSETTO:+0000
TZNAME:GMT
END:STANDARD
END:VTIMEZONE
BEGIN:VEVENT
DTSTART;VALUE=DATE:20080729
DTEND;VALUE=DATE:20080730
LOCATION:
TRANSP:OPAQUE
SEQUENCE:0
UID:pical060-f5eb9f56d7f17a41326c47779031391b
DTSTAMP:20080106T115641Z
CATEGORIES:
DESCRIPTION:
SUMMARY:¤ò¤òÂÎÂ´¦¨¤F¸º¡A¦Ó¨e³Ì«á¤´¥²¶·¾a¦Û¤vªº¤O¶q«r¯}¸º¤~¯àÅÜ¦¨¬üÄRªº»ñ½º¡C¤H¤]­nÀHµÛ¾\¾ú»P¸gÅç¡A¾a¦Û¤vªº¼Ý¤O»P¨M¤ß¤~¯à¯}§½¦Ó¥Í
RRULE:FREQ=YEARLY;INTERVAL=1;BYMONTH=7;WKST=SU
PRIORITY:0
CLASS:PUBLIC
END:VEVENT
END:VCALENDAR
