BEGIN:VCALENDAR
CALSCALE:GREGORIAN
X-WR-TIMEZONE;VALUE=TEXT:GMT
PRODID:PEAK Corporation - piCal -
X-WR-CALNAME;VALUE=TEXT:&#8226;	²ï¤h¤ñ¨È¡G¡u¤H¥Í¦³¦p¤@¤Çµ½´cµ·½u¥æÂ´ªº¥¬¡A§Ú­Ìªºµ½¦æ¥²¶·±µ¨ü§Ú­Ì¹L¥¢ªºÃ@µ¦¡A§Ú­Ìªº¸o´c«o¤S¿à§Ú­Ìªºµ½¦æ¥[¥H±»¹¢¡C¡v
VERSION:2.0
METHOD:PUBLISH
BEGIN:VTIMEZONE
TZID:GMT
BEGIN:STANDARD
DTSTART:19390101T000000
TZOFFSETFROM:+0000
TZOFFSETTO:+0000
TZNAME:GMT
END:STANDARD
END:VTIMEZONE
BEGIN:VEVENT
DTSTART;VALUE=DATE:20080810
DTEND;VALUE=DATE:20080811
LOCATION:
TRANSP:OPAQUE
SEQUENCE:0
UID:pical060-2ea21a026c085ee52ff6cf363fbf8259
DTSTAMP:20080124T135633Z
CATEGORIES:
DESCRIPTION:
SUMMARY:&#8226;	²ï¤h¤ñ¨È¡G¡u¤H¥Í¦³¦p¤@¤Çµ½´cµ·½u¥æÂ´ªº¥¬¡A§Ú­Ìªºµ½¦æ¥²¶·±µ¨ü§Ú­Ì¹L¥¢ªºÃ@µ¦¡A§Ú­Ìªº¸o´c«o¤S¿à§Ú­Ìªºµ½¦æ¥[¥H±»¹¢¡C¡v
RRULE:FREQ=YEARLY;INTERVAL=1;BYMONTH=8;WKST=SU
PRIORITY:0
CLASS:PUBLIC
END:VEVENT
END:VCALENDAR
