BEGIN:VCALENDAR
CALSCALE:GREGORIAN
X-WR-TIMEZONE;VALUE=TEXT:GMT
PRODID:PEAK Corporation - piCal -
X-WR-CALNAME;VALUE=TEXT:¤H¥Í´N¹³¤@­ÓÀ¸¼@»R¥x¡A¤µ®d¥Ñ§Ú¾áºõºt¥X¡A§Ú¬O¥D¨¤¡A§Ú¤@©w­n½æ¤Oºt¥X¡A¤@©w­n¨ÏÆ[²³¹ª´x¥s¦n¡B´xÁn¦p¹p¡C
VERSION:2.0
METHOD:PUBLISH
BEGIN:VTIMEZONE
TZID:GMT
BEGIN:STANDARD
DTSTART:19390101T000000
TZOFFSETFROM:+0000
TZOFFSETTO:+0000
TZNAME:GMT
END:STANDARD
END:VTIMEZONE
BEGIN:VEVENT
DTSTART;VALUE=DATE:20080822
DTEND;VALUE=DATE:20080823
LOCATION:
TRANSP:OPAQUE
SEQUENCE:0
UID:pical060-5949ecc85ab419d61d377cdc757fce5a
DTSTAMP:20080218T064153Z
CATEGORIES:
DESCRIPTION:
SUMMARY:¤H¥Í´N¹³¤@­ÓÀ¸¼@»R¥x¡A¤µ®d¥Ñ§Ú¾áºõºt¥X¡A§Ú¬O¥D¨¤¡A§Ú¤@©w­n½æ¤Oºt¥X¡A¤@©w­n¨ÏÆ[²³¹ª´x¥s¦n¡B´xÁn¦p¹p¡C
RRULE:FREQ=YEARLY;INTERVAL=1;BYMONTH=8;WKST=SU
PRIORITY:0
CLASS:PUBLIC
END:VEVENT
END:VCALENDAR
