BEGIN:VCALENDAR
CALSCALE:GREGORIAN
X-WR-TIMEZONE;VALUE=TEXT:GMT
PRODID:PEAK Corporation - piCal -
X-WR-CALNAME;VALUE=TEXT:¥R¹êª¾ÃÑ¡B°ö¾i¼w¦æ¡B²fÁå°í±jªº·N§Ó¡A§JªA³n®z¡B¾ð¥ß¦Û«H¡A°µ¤@­Ó¿w¹ê¸ÛÀµ¡B¥ú©ú½U¸¨ªº¤H¡C
VERSION:2.0
METHOD:PUBLISH
BEGIN:VTIMEZONE
TZID:GMT
BEGIN:STANDARD
DTSTART:19390101T000000
TZOFFSETFROM:+0000
TZOFFSETTO:+0000
TZNAME:GMT
END:STANDARD
END:VTIMEZONE
BEGIN:VEVENT
DTSTART;VALUE=DATE:20080824
DTEND;VALUE=DATE:20080825
LOCATION:
TRANSP:OPAQUE
SEQUENCE:0
UID:pical060-7a4c46eea14723223d1c792f7689c8bd
DTSTAMP:20080218T064252Z
CATEGORIES:
DESCRIPTION:
SUMMARY:¥R¹êª¾ÃÑ¡B°ö¾i¼w¦æ¡B²fÁå°í±jªº·N§Ó¡A§JªA³n®z¡B¾ð¥ß¦Û«H¡A°µ¤@­Ó¿w¹ê¸ÛÀµ¡B¥ú©ú½U¸¨ªº¤H¡C
RRULE:FREQ=YEARLY;INTERVAL=1;BYMONTH=8;WKST=SU
PRIORITY:0
CLASS:PUBLIC
END:VEVENT
END:VCALENDAR
