BEGIN:VCALENDAR
CALSCALE:GREGORIAN
X-WR-TIMEZONE;VALUE=TEXT:GMT
PRODID:PEAK Corporation - piCal -
X-WR-CALNAME;VALUE=TEXT:¤h¤j¤Ò¤T¤é¤£Åª®Ñ¡A«h¸q²z¤£¥æ©ó¯Ý¤¤¡A¨¥»yµL¨ý¡A­±¥Ø¥i¼¨¡C¡i¶À®x°í¡j
VERSION:2.0
METHOD:PUBLISH
BEGIN:VTIMEZONE
TZID:GMT
BEGIN:STANDARD
DTSTART:19390101T000000
TZOFFSETFROM:+0000
TZOFFSETTO:+0000
TZNAME:GMT
END:STANDARD
END:VTIMEZONE
BEGIN:VEVENT
DTSTART;VALUE=DATE:20080826
DTEND;VALUE=DATE:20080827
LOCATION:
TRANSP:OPAQUE
SEQUENCE:0
UID:pical060-6ead82da0f08efb0435c5acbf606dbb1
DTSTAMP:20080218T064408Z
CATEGORIES:
DESCRIPTION:
SUMMARY:¤h¤j¤Ò¤T¤é¤£Åª®Ñ¡A«h¸q²z¤£¥æ©ó¯Ý¤¤¡A¨¥»yµL¨ý¡A­±¥Ø¥i¼¨¡C¡i¶À®x°í¡j
RRULE:FREQ=YEARLY;INTERVAL=1;BYMONTH=8;WKST=SU
PRIORITY:0
CLASS:PUBLIC
END:VEVENT
END:VCALENDAR
