BEGIN:VCALENDAR
CALSCALE:GREGORIAN
X-WR-TIMEZONE;VALUE=TEXT:GMT
PRODID:PEAK Corporation - piCal -
X-WR-CALNAME;VALUE=TEXT:©R¤£¥i§ï¡A¦ý¹B¥i§ï¡C¦pªG§A¨D±o¤@¤ä¤UÅÒ¡A¨º»ò§Ú­n§i¶D§A¡A¹ï©ó¼ÖÆ[ªº¤H¡A¦³®É¤UÅÒ·|±a¨Ó¤WÅÒ®ÄÀ³¡C­ì¦]¬O¼ÖÆ[ªº¤H·|¹ý©³¤Ï¬Ù¡A¥ø¹Ï§ïÅÜ¹Bµ{¡A§ó¤£·|¹³¨D±o¤WÅÒªº¤H®e©ö±¼¥H»´¤ß¡Aµ²ªG¦u®è«Ý¨ß¡A¦n¤£¤F¬Æ»ò¡C---§õ±Ó
VERSION:2.0
METHOD:PUBLISH
BEGIN:VTIMEZONE
TZID:GMT
BEGIN:STANDARD
DTSTART:19390101T000000
TZOFFSETFROM:+0000
TZOFFSETTO:+0000
TZNAME:GMT
END:STANDARD
END:VTIMEZONE
BEGIN:VEVENT
DTSTART;VALUE=DATE:20080904
DTEND;VALUE=DATE:20080905
LOCATION:
TRANSP:OPAQUE
SEQUENCE:0
UID:pical060-3f6d53482a28dab9295a399e520d23be
DTSTAMP:20080218T065017Z
CATEGORIES:
DESCRIPTION:
SUMMARY:©R¤£¥i§ï¡A¦ý¹B¥i§ï¡C¦pªG§A¨D±o¤@¤ä¤UÅÒ¡A¨º»ò§Ú­n§i¶D§A¡A¹ï©ó¼ÖÆ[ªº¤H¡A¦³®É¤UÅÒ·|±a¨Ó¤WÅÒ®ÄÀ³¡C­ì¦]¬O¼ÖÆ[ªº¤H·|¹ý©³¤Ï¬Ù¡A¥ø¹Ï§ïÅÜ¹Bµ{¡A§ó¤£·|¹³¨D±o¤WÅÒªº¤H®e©ö±¼¥H»´¤ß¡Aµ²ªG¦u®è«Ý¨ß¡A¦n¤£¤F¬Æ»ò¡C---§õ±Ó
RRULE:FREQ=YEARLY;INTERVAL=1;BYMONTH=9;WKST=SU
PRIORITY:0
CLASS:PUBLIC
END:VEVENT
END:VCALENDAR
