BEGIN:VCALENDAR
CALSCALE:GREGORIAN
X-WR-TIMEZONE;VALUE=TEXT:GMT
PRODID:PEAK Corporation - piCal -
X-WR-CALNAME;VALUE=TEXT:¶P§B¯S»¡¡G¡u°ß¦³¬ï¾cªº¤H¡A¤~ª¾¹D¾cªº­þ¤@³BÀ½¸}¡C¡v¦b±Ð¨|ªº¹Lµ{¤¤¡A¤]°ß¦³¾Ç¥Í¤~ª¾¹D¦Û¤vªº­W´e¡B»Ý¨D»P¤è¦V¡C
VERSION:2.0
METHOD:PUBLISH
BEGIN:VTIMEZONE
TZID:GMT
BEGIN:STANDARD
DTSTART:19390101T000000
TZOFFSETFROM:+0000
TZOFFSETTO:+0000
TZNAME:GMT
END:STANDARD
END:VTIMEZONE
BEGIN:VEVENT
DTSTART;VALUE=DATE:20080912
DTEND;VALUE=DATE:20080913
LOCATION:
TRANSP:OPAQUE
SEQUENCE:0
UID:pical060-31e542b776299ffb3db5472966487814
DTSTAMP:20080228T151703Z
CATEGORIES:
DESCRIPTION:
SUMMARY:¶P§B¯S»¡¡G¡u°ß¦³¬ï¾cªº¤H¡A¤~ª¾¹D¾cªº­þ¤@³BÀ½¸}¡C¡v¦b±Ð¨|ªº¹Lµ{¤¤¡A¤]°ß¦³¾Ç¥Í¤~ª¾¹D¦Û¤vªº­W´e¡B»Ý¨D»P¤è¦V¡C
RRULE:FREQ=YEARLY;INTERVAL=1;BYMONTH=9;WKST=SU
PRIORITY:0
CLASS:PUBLIC
END:VEVENT
END:VCALENDAR
