BEGIN:VCALENDAR
CALSCALE:GREGORIAN
X-WR-TIMEZONE;VALUE=TEXT:GMT
PRODID:PEAK Corporation - piCal -
X-WR-CALNAME;VALUE=TEXT:¡u»P¨ä´Á¬ß§O¤H¯k§A¡A¤£¦p¦Û¤v¯k¦Û¤v¡Cµ¥«Ý§O¤H¨Ó¯k§A¬O±øº©º©¤p®|¡A¯k±¤¦Û¤v¡A«o¬O±ø±d²ø¤j¹D¡C¡v
VERSION:2.0
METHOD:PUBLISH
BEGIN:VTIMEZONE
TZID:GMT
BEGIN:STANDARD
DTSTART:19390101T000000
TZOFFSETFROM:+0000
TZOFFSETTO:+0000
TZNAME:GMT
END:STANDARD
END:VTIMEZONE
BEGIN:VEVENT
DTSTART;VALUE=DATE:20080917
DTEND;VALUE=DATE:20080918
LOCATION:
TRANSP:OPAQUE
SEQUENCE:0
UID:pical060-2827cf28d75bf953951b058443a3c838
DTSTAMP:20080310T054606Z
CATEGORIES:
DESCRIPTION:
SUMMARY:¡u»P¨ä´Á¬ß§O¤H¯k§A¡A¤£¦p¦Û¤v¯k¦Û¤v¡Cµ¥«Ý§O¤H¨Ó¯k§A¬O±øº©º©¤p®|¡A¯k±¤¦Û¤v¡A«o¬O±ø±d²ø¤j¹D¡C¡v
RRULE:FREQ=YEARLY;INTERVAL=1;BYMONTH=9;WKST=SU
PRIORITY:0
CLASS:PUBLIC
END:VEVENT
END:VCALENDAR
