BEGIN:VCALENDAR
CALSCALE:GREGORIAN
X-WR-TIMEZONE;VALUE=TEXT:GMT
PRODID:PEAK Corporation - piCal -
X-WR-CALNAME;VALUE=TEXT:¤H¥Í¤¤³Ì¦nªºÂ§ª«´N¬OÄÝ©ó¦Û¤vªº¤@³¡¥÷¡A´N¹³¸Ö¤§©ó¸Ö¤H¡A¦Ï¸s¤§©óªª¦Ï¤H¡A¿Ë¤âÂ¸ªºÃ¹©¬¤§©ó¤k«Ä¡C
VERSION:2.0
METHOD:PUBLISH
BEGIN:VTIMEZONE
TZID:GMT
BEGIN:STANDARD
DTSTART:19390101T000000
TZOFFSETFROM:+0000
TZOFFSETTO:+0000
TZNAME:GMT
END:STANDARD
END:VTIMEZONE
BEGIN:VEVENT
DTSTART;VALUE=DATE:20080921
DTEND;VALUE=DATE:20080922
LOCATION:
TRANSP:OPAQUE
SEQUENCE:0
UID:pical060-7b901988bcc77059a9bde3e25cd4b0e2
DTSTAMP:20080310T054844Z
CATEGORIES:
DESCRIPTION:
SUMMARY:¤H¥Í¤¤³Ì¦nªºÂ§ª«´N¬OÄÝ©ó¦Û¤vªº¤@³¡¥÷¡A´N¹³¸Ö¤§©ó¸Ö¤H¡A¦Ï¸s¤§©óªª¦Ï¤H¡A¿Ë¤âÂ¸ªºÃ¹©¬¤§©ó¤k«Ä¡C
RRULE:FREQ=YEARLY;INTERVAL=1;BYMONTH=9;WKST=SU
PRIORITY:0
CLASS:PUBLIC
END:VEVENT
END:VCALENDAR
