BEGIN:VCALENDAR
CALSCALE:GREGORIAN
X-WR-TIMEZONE;VALUE=TEXT:GMT
PRODID:PEAK Corporation - piCal -
X-WR-CALNAME;VALUE=TEXT:§Æ±æ¨ã¦³¯«©_ªº¤O¶q¡A¦b´X¥G­n©ñ±ó®É¡A§Æ±æ·|«ü¤Þ§Ú­Ìªï¦V¥¼¨Ó¡A³Ð³y¥i¯à¡CÅý§Ú­Ì®£Äß®É¯àºZ½Í¦¨¥\ªºÄ@´º¡A¹ªÀy§Ú­Ì¬ð¯}»ÙÃª¡A§â¥¢¥hªº¦A§ä¦^¨Ó¡C§Æ±æ·|±a»â§Ú­Ìªï¦V¥¼¨Ó¡A±À°Ê§Ú­Ì³Ð³y¥¼¨Ó¡C
VERSION:2.0
METHOD:PUBLISH
BEGIN:VTIMEZONE
TZID:GMT
BEGIN:STANDARD
DTSTART:19390101T000000
TZOFFSETFROM:+0000
TZOFFSETTO:+0000
TZNAME:GMT
END:STANDARD
END:VTIMEZONE
BEGIN:VEVENT
DTSTART;VALUE=DATE:20080929
DTEND;VALUE=DATE:20080930
LOCATION:
TRANSP:OPAQUE
SEQUENCE:0
UID:pical060-7b4028497a012a08f0119a3f8bb3dcb2
DTSTAMP:20080310T055404Z
CATEGORIES:
DESCRIPTION:
SUMMARY:§Æ±æ¨ã¦³¯«©_ªº¤O¶q¡A¦b´X¥G­n©ñ±ó®É¡A§Æ±æ·|«ü¤Þ§Ú­Ìªï¦V¥¼¨Ó¡A³Ð³y¥i¯à¡CÅý§Ú­Ì®£Äß®É¯àºZ½Í¦¨¥\ªºÄ@´º¡A¹ªÀy§Ú­Ì¬ð¯}»ÙÃª¡A§â¥¢¥hªº¦A§ä¦^¨Ó¡C§Æ±æ·|±a»â§Ú­Ìªï¦V¥¼¨Ó¡A±À°Ê§Ú­Ì³Ð³y¥¼¨Ó¡C
RRULE:FREQ=YEARLY;INTERVAL=1;BYMONTH=9;WKST=SU
PRIORITY:0
CLASS:PUBLIC
END:VEVENT
END:VCALENDAR
