BEGIN:VCALENDAR
CALSCALE:GREGORIAN
X-WR-TIMEZONE;VALUE=TEXT:GMT
PRODID:PEAK Corporation - piCal -
X-WR-CALNAME;VALUE=TEXT:»Ý­nªº¤£¦h¡B·Q­n¤Ó¦h¡F»Ý­nªº¤~­n¡B·Q­n¤£­«­n¡A¯à­n¡B¸Ó­nªº¤~­n¡F¤£¯à­n¡B¤£¸Ó­nªºµ´¹ï¤£­n¡C
VERSION:2.0
METHOD:PUBLISH
BEGIN:VTIMEZONE
TZID:GMT
BEGIN:STANDARD
DTSTART:19390101T000000
TZOFFSETFROM:+0000
TZOFFSETTO:+0000
TZNAME:GMT
END:STANDARD
END:VTIMEZONE
BEGIN:VEVENT
DTSTART;VALUE=DATE:20081008
DTEND;VALUE=DATE:20081009
LOCATION:
TRANSP:OPAQUE
SEQUENCE:0
UID:pical060-b1c308a24db89181ba98468828c0bfa8
DTSTAMP:20080310T055845Z
CATEGORIES:
DESCRIPTION:
SUMMARY:»Ý­nªº¤£¦h¡B·Q­n¤Ó¦h¡F»Ý­nªº¤~­n¡B·Q­n¤£­«­n¡A¯à­n¡B¸Ó­nªº¤~­n¡F¤£¯à­n¡B¤£¸Ó­nªºµ´¹ï¤£­n¡C
RRULE:FREQ=YEARLY;INTERVAL=1;BYMONTH=10;WKST=SU
PRIORITY:0
CLASS:PUBLIC
END:VEVENT
END:VCALENDAR
