BEGIN:VCALENDAR
CALSCALE:GREGORIAN
X-WR-TIMEZONE;VALUE=TEXT:GMT
PRODID:PEAK Corporation - piCal -
X-WR-CALNAME;VALUE=TEXT:°ö¾i»P«Ø¥ß¨}¦nªº«äºû¡A¬O¤@¤Áªº°òÂ¦¡Aª¾ÃÑ¦pªG¨S¦³ÆF¬¡¹B¥Î¨º»ò¥¦­Ì¥u¬O¤å¦r»P»{ª¾½}¤F¡C
VERSION:2.0
METHOD:PUBLISH
BEGIN:VTIMEZONE
TZID:GMT
BEGIN:STANDARD
DTSTART:19390101T000000
TZOFFSETFROM:+0000
TZOFFSETTO:+0000
TZNAME:GMT
END:STANDARD
END:VTIMEZONE
BEGIN:VEVENT
DTSTART;VALUE=DATE:20081009
DTEND;VALUE=DATE:20081010
LOCATION:
TRANSP:OPAQUE
SEQUENCE:0
UID:pical060-a97659e85ce7cb33ab6a540d93d29150
DTSTAMP:20080310T055913Z
CATEGORIES:
DESCRIPTION:
SUMMARY:°ö¾i»P«Ø¥ß¨}¦nªº«äºû¡A¬O¤@¤Áªº°òÂ¦¡Aª¾ÃÑ¦pªG¨S¦³ÆF¬¡¹B¥Î¨º»ò¥¦­Ì¥u¬O¤å¦r»P»{ª¾½}¤F¡C
RRULE:FREQ=YEARLY;INTERVAL=1;BYMONTH=10;WKST=SU
PRIORITY:0
CLASS:PUBLIC
END:VEVENT
END:VCALENDAR
