BEGIN:VCALENDAR
CALSCALE:GREGORIAN
X-WR-TIMEZONE;VALUE=TEXT:GMT
PRODID:PEAK Corporation - piCal -
X-WR-CALNAME;VALUE=TEXT:§Ú­Ì¤@©w­n¬Û«H¡A¨C¤Ñ¹J¨ìªº¤H©Î¨Æ¡A³£¤£¬O°¸µMªº¡A¥¦³£¬O¦b§i¶D§Ú­Ì¤@¨Ç°T®§¡A¦bµ¹§Ú­Ì¤@­Ó¾Ç²ßªº¾÷·|¡C¾Ç²ßÃöÃh¡B¾Ç²ß¤£¦Û§Ú¡B¾Ç²ß¯u¤ß«Ý¤H³B¨Æ¤Î¾Ç²ß°µ¤@­ÓµÐÂÄ¡C
VERSION:2.0
METHOD:PUBLISH
BEGIN:VTIMEZONE
TZID:GMT
BEGIN:STANDARD
DTSTART:19390101T000000
TZOFFSETFROM:+0000
TZOFFSETTO:+0000
TZNAME:GMT
END:STANDARD
END:VTIMEZONE
BEGIN:VEVENT
DTSTART;VALUE=DATE:20081010
DTEND;VALUE=DATE:20081011
LOCATION:
TRANSP:OPAQUE
SEQUENCE:0
UID:pical060-469e0ba031d8eea090d443413fd77467
DTSTAMP:20080310T055939Z
CATEGORIES:
DESCRIPTION:
SUMMARY:§Ú­Ì¤@©w­n¬Û«H¡A¨C¤Ñ¹J¨ìªº¤H©Î¨Æ¡A³£¤£¬O°¸µMªº¡A¥¦³£¬O¦b§i¶D§Ú­Ì¤@¨Ç°T®§¡A¦bµ¹§Ú­Ì¤@­Ó¾Ç²ßªº¾÷·|¡C¾Ç²ßÃöÃh¡B¾Ç²ß¤£¦Û§Ú¡B¾Ç²ß¯u¤ß«Ý¤H³B¨Æ¤Î¾Ç²ß°µ¤@­ÓµÐÂÄ¡C
RRULE:FREQ=YEARLY;INTERVAL=1;BYMONTH=10;WKST=SU
PRIORITY:0
CLASS:PUBLIC
END:VEVENT
END:VCALENDAR
