BEGIN:VCALENDAR
CALSCALE:GREGORIAN
X-WR-TIMEZONE;VALUE=TEXT:GMT
PRODID:PEAK Corporation - piCal -
X-WR-CALNAME;VALUE=TEXT:©Ò¦³¦¨¥\ªº¯¦³Z¦b©ó¦Û§Ú¨î¡C¦pªG§A¾Ç·|¤F¾r¶¿¦Û¤v¡A¨º»ò§A´N¦³¤F¤@¦ì³Ì¦n¦Ñ®v¡C
VERSION:2.0
METHOD:PUBLISH
BEGIN:VTIMEZONE
TZID:GMT
BEGIN:STANDARD
DTSTART:19390101T000000
TZOFFSETFROM:+0000
TZOFFSETTO:+0000
TZNAME:GMT
END:STANDARD
END:VTIMEZONE
BEGIN:VEVENT
DTSTART;VALUE=DATE:20081014
DTEND;VALUE=DATE:20081015
LOCATION:
TRANSP:OPAQUE
SEQUENCE:0
UID:pical060-af8fb45cd5439e50cc1a1d1c591ab457
DTSTAMP:20080310T060200Z
CATEGORIES:
DESCRIPTION:
SUMMARY:©Ò¦³¦¨¥\ªº¯¦³Z¦b©ó¦Û§Ú¨î¡C¦pªG§A¾Ç·|¤F¾r¶¿¦Û¤v¡A¨º»ò§A´N¦³¤F¤@¦ì³Ì¦n¦Ñ®v¡C
RRULE:FREQ=YEARLY;INTERVAL=1;BYMONTH=10;WKST=SU
PRIORITY:0
CLASS:PUBLIC
END:VEVENT
END:VCALENDAR
