BEGIN:VCALENDAR
CALSCALE:GREGORIAN
X-WR-TIMEZONE;VALUE=TEXT:GMT
PRODID:PEAK Corporation - piCal -
X-WR-CALNAME;VALUE=TEXT:¤H©Ê³Ì¥i¼¦ªº´N¬O¡G§Ú­ÌÁ`¬O¹Ú·Q&#30528;¤ÑÃäªº¤@®y©_§®ªºª´ºÀ¶é¡A¦Ó¤£¥hªY½à¤µ¤Ñ´N¶}¦b§Ú­Ìµ¡¤fªºª´ºÀ¡C
VERSION:2.0
METHOD:PUBLISH
BEGIN:VTIMEZONE
TZID:GMT
BEGIN:STANDARD
DTSTART:19390101T000000
TZOFFSETFROM:+0000
TZOFFSETTO:+0000
TZNAME:GMT
END:STANDARD
END:VTIMEZONE
BEGIN:VEVENT
DTSTART;VALUE=DATE:20081023
DTEND;VALUE=DATE:20081024
LOCATION:
TRANSP:OPAQUE
SEQUENCE:0
UID:pical060-25d273278801178b5d7e5c91e8de9187
DTSTAMP:20080319T082614Z
CATEGORIES:
DESCRIPTION:
SUMMARY:¤H©Ê³Ì¥i¼¦ªº´N¬O¡G§Ú­ÌÁ`¬O¹Ú·Q&#30528;¤ÑÃäªº¤@®y©_§®ªºª´ºÀ¶é¡A¦Ó¤£¥hªY½à¤µ¤Ñ´N¶}¦b§Ú­Ìµ¡¤fªºª´ºÀ¡C
RRULE:FREQ=YEARLY;INTERVAL=1;BYMONTH=10;WKST=SU
PRIORITY:0
CLASS:PUBLIC
END:VEVENT
END:VCALENDAR
