BEGIN:VCALENDAR
CALSCALE:GREGORIAN
X-WR-TIMEZONE;VALUE=TEXT:GMT
PRODID:PEAK Corporation - piCal -
X-WR-CALNAME;VALUE=TEXT:¥¢±Ñ¬O¤°»ò¡H&#27809;¦³¤°»ò¡A¥u¬O§ó¨«ªñ¦¨¥\¤@¨B¡F¦¨¥\¬O¤°»ò¡H´N¬O¨«¹L¤F©Ò¦³³q¦V¥¢±Ñªº¸ô¡A¥u³Ñ¤U¤@±ø¸ô¡A¨º´N¬O¦¨¥\ªº¸ô¡C
VERSION:2.0
METHOD:PUBLISH
BEGIN:VTIMEZONE
TZID:GMT
BEGIN:STANDARD
DTSTART:19390101T000000
TZOFFSETFROM:+0000
TZOFFSETTO:+0000
TZNAME:GMT
END:STANDARD
END:VTIMEZONE
BEGIN:VEVENT
DTSTART;VALUE=DATE:20081025
DTEND;VALUE=DATE:20081026
LOCATION:
TRANSP:OPAQUE
SEQUENCE:0
UID:pical060-12403940c650cfaf497685a7a2fa854f
DTSTAMP:20080319T082714Z
CATEGORIES:
DESCRIPTION:
SUMMARY:¥¢±Ñ¬O¤°»ò¡H&#27809;¦³¤°»ò¡A¥u¬O§ó¨«ªñ¦¨¥\¤@¨B¡F¦¨¥\¬O¤°»ò¡H´N¬O¨«¹L¤F©Ò¦³³q¦V¥¢±Ñªº¸ô¡A¥u³Ñ¤U¤@±ø¸ô¡A¨º´N¬O¦¨¥\ªº¸ô¡C
RRULE:FREQ=YEARLY;INTERVAL=1;BYMONTH=10;WKST=SU
PRIORITY:0
CLASS:PUBLIC
END:VEVENT
END:VCALENDAR
