BEGIN:VCALENDAR
CALSCALE:GREGORIAN
X-WR-TIMEZONE;VALUE=TEXT:GMT
PRODID:PEAK Corporation - piCal -
X-WR-CALNAME;VALUE=TEXT:¥Ø¼Ð---¤H¥Í·í¤¤¦³»ù­Èªº¥Ø¼Ð¦³¨â­Ó¡A¤@¬O§A¥²¶·³]ªk±o¨ì§A·Q­nªºªF¦è¡F¥t¥~¤@­Ó¬O¸ÕµÛ¨É¨ü§A¤v¸g±o¨ì¦nªF¦è¡C¡K¡K¡K¥d¤º°ò
VERSION:2.0
METHOD:PUBLISH
BEGIN:VTIMEZONE
TZID:GMT
BEGIN:STANDARD
DTSTART:19390101T000000
TZOFFSETFROM:+0000
TZOFFSETTO:+0000
TZNAME:GMT
END:STANDARD
END:VTIMEZONE
BEGIN:VEVENT
DTSTART;VALUE=DATE:20081030
DTEND;VALUE=DATE:20081031
LOCATION:
TRANSP:OPAQUE
SEQUENCE:0
UID:pical060-44ebe61b1120eee5a1d048c397bf459b
DTSTAMP:20080319T083042Z
CATEGORIES:
DESCRIPTION:
SUMMARY:¥Ø¼Ð---¤H¥Í·í¤¤¦³»ù­Èªº¥Ø¼Ð¦³¨â­Ó¡A¤@¬O§A¥²¶·³]ªk±o¨ì§A·Q­nªºªF¦è¡F¥t¥~¤@­Ó¬O¸ÕµÛ¨É¨ü§A¤v¸g±o¨ì¦nªF¦è¡C¡K¡K¡K¥d¤º°ò
RRULE:FREQ=YEARLY;INTERVAL=1;BYMONTH=10;WKST=SU
PRIORITY:0
CLASS:PUBLIC
END:VEVENT
END:VCALENDAR
