BEGIN:VCALENDAR
CALSCALE:GREGORIAN
X-WR-TIMEZONE;VALUE=TEXT:GMT
PRODID:PEAK Corporation - piCal -
X-WR-CALNAME;VALUE=TEXT:¤H¥Í´N¦n¹³¬O¦^¤O¼Ð¤@¼Ë¡A§A§ëÂY¥Xªº¬O¤°»ò¡A¦¬¨ì´N¬O¤°»ò¡C¥d¤º°ò
VERSION:2.0
METHOD:PUBLISH
BEGIN:VTIMEZONE
TZID:GMT
BEGIN:STANDARD
DTSTART:19390101T000000
TZOFFSETFROM:+0000
TZOFFSETTO:+0000
TZNAME:GMT
END:STANDARD
END:VTIMEZONE
BEGIN:VEVENT
DTSTART;VALUE=DATE:20081101
DTEND;VALUE=DATE:20081102
LOCATION:
TRANSP:OPAQUE
SEQUENCE:0
UID:pical060-ae7542d16d4699781caf0d7214e8cf83
DTSTAMP:20080319T083207Z
CATEGORIES:
DESCRIPTION:
SUMMARY:¤H¥Í´N¦n¹³¬O¦^¤O¼Ð¤@¼Ë¡A§A§ëÂY¥Xªº¬O¤°»ò¡A¦¬¨ì´N¬O¤°»ò¡C¥d¤º°ò
RRULE:FREQ=YEARLY;INTERVAL=1;BYMONTH=11;WKST=SU
PRIORITY:0
CLASS:PUBLIC
END:VEVENT
END:VCALENDAR
