BEGIN:VCALENDAR
CALSCALE:GREGORIAN
X-WR-TIMEZONE;VALUE=TEXT:GMT
PRODID:PEAK Corporation - piCal -
X-WR-CALNAME;VALUE=TEXT:§Ú­Ì¨Ó´M¨Dºë¯«¥Í¬¡ªº¥X¸ô¡A¬Ý¥X§Æ±æ©M·N¸q¡A¦Ó¤£¬O¨Ó°gÅÊ±a¤£¨«ªºµê¦W¡B°]´I©M¦a¦ì¡C
VERSION:2.0
METHOD:PUBLISH
BEGIN:VTIMEZONE
TZID:GMT
BEGIN:STANDARD
DTSTART:19390101T000000
TZOFFSETFROM:+0000
TZOFFSETTO:+0000
TZNAME:GMT
END:STANDARD
END:VTIMEZONE
BEGIN:VEVENT
DTSTART;VALUE=DATE:20081105
DTEND;VALUE=DATE:20081106
LOCATION:
TRANSP:OPAQUE
SEQUENCE:0
UID:pical060-9fd809ad33a6e4dc7f229c09004bc2f9
DTSTAMP:20080319T083457Z
CATEGORIES:
DESCRIPTION:
SUMMARY:§Ú­Ì¨Ó´M¨Dºë¯«¥Í¬¡ªº¥X¸ô¡A¬Ý¥X§Æ±æ©M·N¸q¡A¦Ó¤£¬O¨Ó°gÅÊ±a¤£¨«ªºµê¦W¡B°]´I©M¦a¦ì¡C
RRULE:FREQ=YEARLY;INTERVAL=1;BYMONTH=11;WKST=SU
PRIORITY:0
CLASS:PUBLIC
END:VEVENT
END:VCALENDAR
