BEGIN:VCALENDAR
CALSCALE:GREGORIAN
X-WR-TIMEZONE;VALUE=TEXT:GMT
PRODID:PEAK Corporation - piCal -
X-WR-CALNAME;VALUE=TEXT:¼ÖÆ[¬O§Æ±æªº©ú¿O¡A¥¦«ü¤ÞµÛ§A±q¦MÅÉ¯U¨¦¤¤¨B¦V©Z³~¡A¨Ï§A±o¨ì·sªº¥Í©R¡A·sªº§Æ±æ¡A¤ä´©µÛ§Aªº²z·Q¥Ã¤£ª{·À¡C
VERSION:2.0
METHOD:PUBLISH
BEGIN:VTIMEZONE
TZID:GMT
BEGIN:STANDARD
DTSTART:19390101T000000
TZOFFSETFROM:+0000
TZOFFSETTO:+0000
TZNAME:GMT
END:STANDARD
END:VTIMEZONE
BEGIN:VEVENT
DTSTART;VALUE=DATE:20081112
DTEND;VALUE=DATE:20081113
LOCATION:
TRANSP:OPAQUE
SEQUENCE:1
UID:pical060-4cc8ebbe528971a8b066668b4f213682
DTSTAMP:20080327T114909Z
CATEGORIES:
DESCRIPTION:
SUMMARY:¼ÖÆ[¬O§Æ±æªº©ú¿O¡A¥¦«ü¤ÞµÛ§A±q¦MÅÉ¯U¨¦¤¤¨B¦V©Z³~¡A¨Ï§A±o¨ì·sªº¥Í©R¡A·sªº§Æ±æ¡A¤ä´©µÛ§Aªº²z·Q¥Ã¤£ª{·À¡C
RRULE:FREQ=YEARLY;INTERVAL=1;BYMONTH=11;WKST=SU
PRIORITY:0
CLASS:PUBLIC
END:VEVENT
END:VCALENDAR
