BEGIN:VCALENDAR
CALSCALE:GREGORIAN
X-WR-TIMEZONE;VALUE=TEXT:GMT
PRODID:PEAK Corporation - piCal -
X-WR-CALNAME;VALUE=TEXT:¯u¥¿ªºÅv«Â¬OÅý¹ï¤è¤ß®®¸ÛªA¡A¦Ó¤£¬O´±«ã¦Ó¤£´±¨¥¡A±Ð¨|ªº¤è¦¡­n¥Î²¨¾É¡A²¨³q¡A¦Ó¤£¬O¨¾°ô¡C
VERSION:2.0
METHOD:PUBLISH
BEGIN:VTIMEZONE
TZID:GMT
BEGIN:STANDARD
DTSTART:19390101T000000
TZOFFSETFROM:+0000
TZOFFSETTO:+0000
TZNAME:GMT
END:STANDARD
END:VTIMEZONE
BEGIN:VEVENT
DTSTART;VALUE=DATE:20081113
DTEND;VALUE=DATE:20081114
LOCATION:
TRANSP:OPAQUE
SEQUENCE:1
UID:pical060-b5ac3af2e710845dcdaa0e87721668bc
DTSTAMP:20080327T114921Z
CATEGORIES:
DESCRIPTION:
SUMMARY:¯u¥¿ªºÅv«Â¬OÅý¹ï¤è¤ß®®¸ÛªA¡A¦Ó¤£¬O´±«ã¦Ó¤£´±¨¥¡A±Ð¨|ªº¤è¦¡­n¥Î²¨¾É¡A²¨³q¡A¦Ó¤£¬O¨¾°ô¡C
RRULE:FREQ=YEARLY;INTERVAL=1;BYMONTH=11;WKST=SU
PRIORITY:0
CLASS:PUBLIC
END:VEVENT
END:VCALENDAR
