BEGIN:VCALENDAR
CALSCALE:GREGORIAN
X-WR-TIMEZONE;VALUE=TEXT:GMT
PRODID:PEAK Corporation - piCal -
X-WR-CALNAME;VALUE=TEXT:§Ú¾Ç²ß¥u­nÆg¬ü¤£­n§åµû¡B§Ú¾Ç²ß­n®É®É½Ð±Ð¤£­nÅº¶Æ¡B§Ú¾Ç²ß¥u°Ýµ¹¤©¤£°Ý±o¨ì¡B§Ú¾Ç²ß­nª¾ºÖ¡B±¤ºÖ¡B¦A³yºÖ¡C
VERSION:2.0
METHOD:PUBLISH
BEGIN:VTIMEZONE
TZID:GMT
BEGIN:STANDARD
DTSTART:19390101T000000
TZOFFSETFROM:+0000
TZOFFSETTO:+0000
TZNAME:GMT
END:STANDARD
END:VTIMEZONE
BEGIN:VEVENT
DTSTART;VALUE=DATE:20081115
DTEND;VALUE=DATE:20081116
LOCATION:
TRANSP:OPAQUE
SEQUENCE:1
UID:pical060-8f1d871ada25f22928b4c391ddcf0aee
DTSTAMP:20080327T114950Z
CATEGORIES:
DESCRIPTION:
SUMMARY:§Ú¾Ç²ß¥u­nÆg¬ü¤£­n§åµû¡B§Ú¾Ç²ß­n®É®É½Ð±Ð¤£­nÅº¶Æ¡B§Ú¾Ç²ß¥u°Ýµ¹¤©¤£°Ý±o¨ì¡B§Ú¾Ç²ß­nª¾ºÖ¡B±¤ºÖ¡B¦A³yºÖ¡C
RRULE:FREQ=YEARLY;INTERVAL=1;BYMONTH=11;WKST=SU
PRIORITY:0
CLASS:PUBLIC
END:VEVENT
END:VCALENDAR
